BEGIN:VCALENDAR
VERSION:2.0
PRODID:-//TLD Law - ECPv6.15.20//NONSGML v1.0//EN
CALSCALE:GREGORIAN
METHOD:PUBLISH
X-ORIGINAL-URL:https://tldlaw.com
X-WR-CALDESC:Events for TLD Law
REFRESH-INTERVAL;VALUE=DURATION:PT1H
X-Robots-Tag:noindex
X-PUBLISHED-TTL:PT1H
BEGIN:VTIMEZONE
TZID:America/Los_Angeles
BEGIN:DAYLIGHT
TZOFFSETFROM:-0800
TZOFFSETTO:-0700
TZNAME:PDT
DTSTART:20200308T100000
END:DAYLIGHT
BEGIN:STANDARD
TZOFFSETFROM:-0700
TZOFFSETTO:-0800
TZNAME:PST
DTSTART:20201101T090000
END:STANDARD
BEGIN:DAYLIGHT
TZOFFSETFROM:-0800
TZOFFSETTO:-0700
TZNAME:PDT
DTSTART:20210314T100000
END:DAYLIGHT
BEGIN:STANDARD
TZOFFSETFROM:-0700
TZOFFSETTO:-0800
TZNAME:PST
DTSTART:20211107T090000
END:STANDARD
BEGIN:DAYLIGHT
TZOFFSETFROM:-0800
TZOFFSETTO:-0700
TZNAME:PDT
DTSTART:20220313T100000
END:DAYLIGHT
BEGIN:STANDARD
TZOFFSETFROM:-0700
TZOFFSETTO:-0800
TZNAME:PST
DTSTART:20221106T090000
END:STANDARD
END:VTIMEZONE
BEGIN:VEVENT
DTSTART;TZID=America/Los_Angeles:20210326T100000
DTEND;TZID=America/Los_Angeles:20210326T103000
DTSTAMP:20260423T122738
CREATED:20210302T185827Z
LAST-MODIFIED:20250415T180018Z
UID:13817-1616752800-1616754600@tldlaw.com
SUMMARY:Join TLD Law & Plethora Businesses for a discussion on PPP loans during an M&A transaction.
DESCRIPTION:The Presentation will highlight: \n·      Forgiveness\n·      Effect on valuation\n·      Case Study\n·      Tax Impact
URL:https://tldlaw.com/event/join-tld-law-plethora-businesses-for-a-discussion-on-ppp-loans-during-an-ma-transaction/
END:VEVENT
END:VCALENDAR